BEGIN:VCALENDAR
VERSION:2.0
PRODID:-//Katefriends - ECPv5.8.0//NONSGML v1.0//EN
CALSCALE:GREGORIAN
METHOD:PUBLISH
X-WR-CALNAME:Katefriends
X-ORIGINAL-URL:https://www.katefriends.org
X-WR-CALDESC:Events for Katefriends
BEGIN:VTIMEZONE
TZID:UTC
BEGIN:STANDARD
TZOFFSETFROM:+0000
TZOFFSETTO:+0000
TZNAME:UTC
DTSTART:20170101T000000
END:STANDARD
END:VTIMEZONE
BEGIN:VEVENT
DTSTART;TZID=UTC:20211009T100000
DTEND;TZID=UTC:20211009T180000
DTSTAMP:20260423T200942
CREATED:20210909T020007Z
LAST-MODIFIED:20211002T021229Z
UID:11567-1633773600-1633802400@www.katefriends.org
SUMMARY:FESTA ANIMAL DE OEIRAS & ASSOCIAÇÃO KATEFRIENDS
DESCRIPTION:A Katefriends Associação vai estar presente em mais uma Festa Animal de Oeiras com os seus galguinhos e também outros que em breve vão estar disponíveis para adoção. \nA Katefriends é uma Associação de Adoção de Galgos sem qualquer financiamento de entidades privadas ou públicas. \nPor esse motivo\, criamos coleiras Martingale e também capas quentinhas\, produzidas por nós\, de forma artesanal com a marca registada Katefriends®. \nAo adquirir através da nossa loja solidária\,  qualquer um dos nossos artigos\, estará a contribuir  para ajudar nas despesas que temos para os resgatar\, recuperar\, operar\, tratar\, medicar e alimentar\, pois toda a receita reverte para os ajudar. \nLá vos esperamos cheios de alegria e boa disposição
URL:https://www.katefriends.org/event/festa-animal-de-oeiras-associacao-katefriends/
LOCATION:oeiras\, Jardim Municipal de Oeiras\, Portugal
CATEGORIES:eventos,Greyhound party,Meeting
ATTACH;FMTTYPE=image/jpeg:https://www.katefriends.org/wp-content/uploads/2021/10/Festa-Animal-de-Oeiras.jpg
END:VEVENT
BEGIN:VEVENT
DTSTART;TZID=UTC:20210918T150000
DTEND;TZID=UTC:20210918T180000
DTSTAMP:20260423T200942
CREATED:20210919T014240Z
LAST-MODIFIED:20211002T015950Z
UID:11554-1631977200-1631988000@www.katefriends.org
SUMMARY:Encontro de Galgos Katefriends - Patrocínio Câmara Municipal Matosinhos 18/09/21 Parque Canino Seara
DESCRIPTION:Veja o vídeo: https://youtu.be/mX5vgKl42Ao \nÉ com enorme gratidão que a www.katefriends.org agradece todo o apoio\, presença\, simpatia\, que tornou possível realizar o 1º Encontro de Galgos da katefriends.org com o patrocínio da Câmara Municipal de Matosinhos. Agradecimentos especiais para: Presidente da Câmara Municipal de Matosinhos -Drª Luísa Maria Neves Salgueiro Vereador da Câmara Municipal de Matosinhos -Professor António Fernando Gonçalves Correia Pinto Médica Veterinária da Câmara Municipal de Matosinhos -Dra Liliana Raquel Sousa. Com a participação de Pata na Poça\, a mentora do evento Drª Susana Gonçalves e das nossas estrelas caninas: Eva & Jack\, Olívia & Anúbis\, Kika & Ema\, Dobby\, Pacco\, Diana\, Paco\, Daiko\, Heidi & Magali\, Nara\, Foxy & Chester\, Hórus \, Matias & Óscar & Amália\, Remy\, Alva\, Yuki \, Pirata\, Conguito\, Camila & Ramiro @camaramunicipaldematosinhos @croamatosinhos ??❤️
URL:https://www.katefriends.org/event/encontro-de-galgos-katefriends-patrocinio-camara-municipal-matosinhos-18-09-21-parque-canino-seara/
LOCATION:Porto\, Parque Canino da Seara\, Matosinhos\, Portugal
CATEGORIES:eventos,Greyhound party,Party
ATTACH;FMTTYPE=image/jpeg:https://www.katefriends.org/wp-content/uploads/2021/10/Encontro-de-Galgos.jpg
ORGANIZER;CN="Katefriends%20Associa%C3%A7%C3%A3o":MAILTO:katefriends@katefriends.org
END:VEVENT
BEGIN:VEVENT
DTSTART;TZID=UTC:20210508T150000
DTEND;TZID=UTC:20210508T180000
DTSTAMP:20260423T200942
CREATED:20210508T174103Z
LAST-MODIFIED:20260302T130356Z
UID:10722-1620486000-1620496800@www.katefriends.org
SUMMARY:ENCONTRO DE GALGOS KATEFRIENDS NO DOG CAMP ESCOLA DE CÃES - 8 MAIO
DESCRIPTION:Link do vídeo:https://youtu.be/a8-h07s6c-o\n\nA Equipa Katefriends agradece a todos os adotantes e participantes que se juntaram a nós no dia 8 Maio\, na Dog Camp – Escola de cães em Famões – Odivelas!  Obrigada pela vossa presença e apoio. A Katefriends Associação infelizmente não é financiada pelo estado português nem pela Câmara Municipal de Oeiras\, por isso apenas sobrevive com donativos que recebe de todos vós! Mais um vez\, muito obrigada pela vossa generosidade e por nos continuarem a ajudar a arranjarmos forma de resgatar e tratar para dar para adoção mais galguinhos no nosso País.\nObrigada também à Royal Canin  que patrocinou com snacks de treino “Royal Canin Educ”. Estes são uma alternativa com poucas calorias às guloseimas e recompensas convencionais.\n\nO Dog Camp – Escola de cães\, tem 1.500 m2\, estacionamento privativo e treinadores caninos com uma vasta experiência em treino de cães e também da raça galgo\, em obediência básica\, resolução de problemas comportamentais\, sociabilização\, desporto\, etc.\nAs inscrições foram limitadas porque existia um limite de pessoas imposto pela pandemia para protegermos a saúde de todos nós.\nEstiveram presentes os seguintes canitos: Lupita\, Óscar\, Balu\, a Goa\, o Taxi & Tião\, a Mixy\, Eva\, Kiko & Gutta\, Hórus\, Baileys & Siri\, Frodo\, Donald\, Gaspar\, Leia & Luna\, Bart & Pipa\, Maracujá\, Tera & Jack & Eva\, Shakira & Ceu & Wibi & Zigi\, Lola & Pepa.\nMuito obrigada a todos pela vossa presença\, aqui vos deixamos algumas imagens e o vídeo que se encontra  no Youtube https://youtu.be/a8-h07s6c-o
URL:https://www.katefriends.org/event/%f0%9d%97%98%f0%9d%97%a1%f0%9d%97%96%f0%9d%97%a2%f0%9d%97%a1%f0%9d%97%a7%f0%9d%97%a5%f0%9d%97%a2-%f0%9d%97%97%f0%9d%97%98-%f0%9d%97%9a%f0%9d%97%94%f0%9d%97%9f%f0%9d%97%9a%f0%9d%97%a2%f0%9d%97%a6/
CATEGORIES:eventos,Greyhound party,Meeting,Party
ATTACH;FMTTYPE=image/png:https://www.katefriends.org/wp-content/uploads/2021/05/184371192_314399063538002_1511738051922288808_n-1.png
ORGANIZER;CN="katefriends":MAILTO:katefriends@katefriends.org
END:VEVENT
BEGIN:VEVENT
DTSTART;TZID=UTC:20210122T080000
DTEND;TZID=UTC:20210122T170000
DTSTAMP:20260423T200942
CREATED:20210122T200049Z
LAST-MODIFIED:20210122T220558Z
UID:10039-1611302400-1611334800@www.katefriends.org
SUMMARY:Katefriends partership Grey Hound Shirt Company
DESCRIPTION:Apresento-vos a camisa ‘Edinburgh’  uma das belas peças de vestuário que a Grey Hound Shirt Company criou para embelezar a nossa existência\, ao adquirir o valor da embalagem reverte para uma causa ajudando assim os galguinhos da Katefriends. \n\nVisite o website: https://www.greyhoundshirtcompany.com/ e sinta-se linda.\n\nGrey Hound Shirt Company\n\n-Orders ? or greyhound.by.sc@gmail.com\n-Partnership @katefriendsorg\nWatch on youtube: https://youtu.be/c-xpARxZePo\nPhotos from Cristina Gonçalo by: Ricardo Felício\n#somostodoskatefriends\n\nhttps://www.katefriends.org/wp-content/uploads/2021/01/WhatsApp-Video-2021-01-22-at-16.15.56.mp4
URL:https://www.katefriends.org/event/katefriends-partership-grey-hound-shirt-company/
CATEGORIES:eventos,Family Fun,Greyhound party,Party
END:VEVENT
BEGIN:VEVENT
DTSTART;TZID=UTC:20201201T103000
DTEND;TZID=UTC:20201201T163000
DTSTAMP:20260423T200942
CREATED:20201202T034817Z
LAST-MODIFIED:20210205T193515Z
UID:9680-1606818600-1606840200@www.katefriends.org
SUMMARY:Edinburgh Grey Hound Shirt Company  photo session with Katefriends greyhounds
DESCRIPTION:Este ano dê presentes com amor\, ao comprar uma peça de vestuário da Grey Hound Shirt Company o valor da embalagem reverte para ajudar a resgatar\, cuidar\, tratar\, alimentar os galgos da katefriends.org \nEsta linda camisa é a Edinburgh visite o instagram @greyhound_shirtcompany ou facebook sinta-se bonita e ajude. \nThis is my beautiful Edinburgh shirt\, when shopping at Grey Hound Shirt Company\, the value of the package reverts to help katefriends.org rescue\, recover\, treat\, feed abandoned greyhounds in Portugal. \nThank you SC for all the support\, trust\, affection and for our partnership. \nMerry Christmas @greyhound_shirtcompany katefriends.org \nAdopt go to: www.katefriends.org \nPhotos by:Ricardo Felício  \nWatch the vídeo:  https://youtu.be/HIUE0cGHrvE
URL:https://www.katefriends.org/event/edin/
LOCATION:Algés
CATEGORIES:eventos,Family Fun,Greyhound party,Meeting,Party
ATTACH;FMTTYPE=image/jpeg:https://www.katefriends.org/wp-content/uploads/2020/12/f78275d7-2c71-4f6b-a7c5-6dd022a1f12f.jpg
END:VEVENT
BEGIN:VEVENT
DTSTART;TZID=UTC:20200508T000000
DTEND;TZID=UTC:20200508T000000
DTSTAMP:20260423T200942
CREATED:20200306T170050Z
LAST-MODIFIED:20200620T145849Z
UID:8600-1588896000-1588896000@www.katefriends.org
SUMMARY:EVENTO PARCERIA GREY HOUND SHIRT COMPANY & KATEFRIENDS
DESCRIPTION:Á GREY HOUND SHIRT COMPANY UM MUITO OBRIGADO ?? \nO evento de dia 6/3/2020 que deu ínicio à parceria com a #grey_hound_shirt_company  começou a dar frutos. Um paixão comum\, camisas totalmente concebidas com materiais amigos do ambiente e “pet friendly”\, onde cada camisa vendida é cuidadosamente embalada numa elegante caixa\, em que o valor do packaging reverte  para ajudar os galguinhos ? da #katefriendsorg  \nAo adquirir uma peça greyhound já está a ajudar.\nQueremos publicamente agradecer a todas as clientes os donativos que temos recebido. ?❤️ \n“Every woman needs a good shirt and a good cause.”\n-From Porto/Portugal to the world\n-Partnership  #grey_hound_shirt_company  Grey Hound Shirt Company  &   @katefriendsorg\n-Orders ? greyhound.by.sc@gmail.com \n       \n 
URL:https://www.katefriends.org/event/grey-hound-shirt-company-faz-parceria-com-a-katefriends-ao-comprar-uma-camisa-reverte-o-valor-de-1-e-na-venda-do-packaging-para-a-instituicao/
CATEGORIES:eventos,Family Fun,Greyhound party,Meeting,Party
ATTACH;FMTTYPE=image/jpeg:https://www.katefriends.org/wp-content/uploads/2020/05/Post-Agradecimento.jpg
END:VEVENT
BEGIN:VEVENT
DTSTART;TZID=UTC:20191124T110000
DTEND;TZID=UTC:20191124T120000
DTSTAMP:20260423T200942
CREATED:20171124T110016Z
LAST-MODIFIED:20200605T180611Z
UID:8850-1574593200-1574596800@www.katefriends.org
SUMMARY:AULA SOLIDÁRIA DeROSE Method Cascais
DESCRIPTION:No dia 24 de Novembro de 2019\, o DeROSE Method Cascais e os padrinhos @_ericarodrigues_ e @guibarroso.23 apoiam mais uma Causa\, organizando uma AULA SOLIDÁRIA aberta ao público.\nDesta vez iremos apoiar o incansável trabalho da @katefriendsorg \, que dá a conhecer a dura realidade e flagelo do abandono\, resultante das corridas de Galgos em Portugal. A Katefriends é a única Instituição no país que há mais de 20 anos resgata e acolhe Galgos abandonados da via pública. Tem tentado mudar mentalidades e tratar da adoção personalizada de Galgos recolhidos pela Instituição\, ou vindos de Associações\, Canis Municipais\, Clínicas Veterinárias\, Particulares\, Galgueiros\, e de todos os que solicitam ajuda\, o que já originou centenas de adopções de Galgos resgatados em Portugal. \n? A aula será às 11:00\, no @derose.method.cascais\n? A entrada é feita através de um donativo\, que pode ser em dinheiro para o NIB: PT50 0033 0000 4550 2226 6410 5; ou em géneros\, como ração de alto rendimento (os Galgos na sua maioria são resgatados muito magros\, muito fracos e debilitados. Devido ao seu metabolismo e dificuldade em engordar as rações de alta energia são as mais adequadas para esta raça)\, desparasitantes internos e externos\, (20kg/30Kg)\, camas\, mantas e trelas. Nesta lista não estão incluídas coleiras\, porque os Galgos têm o pescoço muito largo em relação ao crânio e é aconselhável o uso de coleiras e peitorais próprios\, pois só esses devido ao traumas elevados que os animais apresentam\, evitam que os consigam retirar. \n?Além da aula\, poderás também ajudar de várias formas: \n?Passar a mensagem sobre a realidade dos Galgos em Portugal;\n?Adoptar um Galgo;\n?Aconselhar um amigo a adoptar um Galgo;\n?Ser F.A.T. (Família de Acolhimento Temporário); \nOs actores Erica & Guilherme são nossos alunos e\, como “pais” de dois patudos\, é com muito entusiasmo que dão a cara por esta causa! Organizado pelos nossos adotantes da Uma e Haruki Ana Vermelho & Bruno Pinto \nEntra em contacto connosco para te inscreveres nesta aula.\n#derosemethodcascais #solidariedade #atriz #ator #cascais #katefriends #galgos #help #tvi #apoio #ajuda #aula #aulaaberta #aulasolidaria #hope #d
URL:https://www.katefriends.org/event/aula-solidaria-derose-method-cascais/
LOCATION:DeROSE Method Cascais
CATEGORIES:eventos,Family Fun,Greyhound party,Party
ATTACH;FMTTYPE=image/jpeg:https://www.katefriends.org/wp-content/uploads/2020/06/76267126_1494575304026847_5221669054900600832_n.jpg
END:VEVENT
BEGIN:VEVENT
DTSTART;TZID=UTC:20190616T150000
DTEND;TZID=UTC:20190616T180000
DTSTAMP:20260423T200942
CREATED:20190616T150003Z
LAST-MODIFIED:20211011T142228Z
UID:6342-1560697200-1560708000@www.katefriends.org
SUMMARY:Evento de Galgos - KATEFRIENDS em  Quinta Trevo - 16 Junho 2019
DESCRIPTION:Dia 16 de Junho de 2019 realizou-se  mais um fantástico encontro de Galgos da Katefriends. \nRealizado desta vez na Quinta do Trevo que faz de FAT (família de acolhimento temporário) aos galguinhos da Katefriends e  que foi um verdadeiro sucesso. Obrigada Andreia Pereira \nObrigada a todos os que puderam vir\, aqui ficam algumas fotos e o vídeo. \nhttps://youtu.be/w45x–t1LqE \nCom a participação de: \nPulguinha\, Pipoca & Mel; Bolt; Taxi; Lauren; Kira & Tóquio; Elis; Maggie; Kaylash; Princesa & Kika(Sharpei); Nala & Pixel; Jim; Pepper; Nairobi; Bobbit; Hórus; Gutta & Kiko; Siri. \nGalgos Katefriends: Jack & Eva \nGalgos do Trevo: Seta\, Baco\, Gabi\, Isaura\, Milovna\, Petra (Rottweiller). \nGalgos para adoção: Âmbar e Bento
URL:https://www.katefriends.org/event/evento-de-galgos-16-junho-2019-lisboa/
LOCATION:Oeiras
CATEGORIES:eventos,Family Fun,Greyhound party,Meeting,Party
ATTACH;FMTTYPE=image/jpeg:https://www.katefriends.org/wp-content/uploads/2019/06/P1220506-Cópia.jpg
ORGANIZER;CN="katefriends":MAILTO:katefriends@katefriends.org
END:VEVENT
BEGIN:VEVENT
DTSTART;TZID=UTC:20181223T150000
DTEND;TZID=UTC:20181223T180000
DTSTAMP:20260423T200942
CREATED:20181223T160020Z
LAST-MODIFIED:20200605T171934Z
UID:8821-1545577200-1545588000@www.katefriends.org
SUMMARY:Passeio De Natal dia 23 Dez 2018 - Great Hounds Club & Katefriends
DESCRIPTION:E por ser Natal e a Katefriends estar no Porto a passar a consoada com a sua família\, o Great Hound Club mais uma vez organizou um evento de galgos desta vez na Praia dos Zebreiros\, em Gondomar no Porto. \nMuitos foram os que participaram e a matar saudades dos nossos galguinhos tão bem adotados e felizes nesta cidade capital dos galgos adotados de Portugal. Obrigada a todos por terem aparecido. \nAqui vos deixo\, com as fotos do evento: https://www.facebook.com/events/378704169567270/ \n 
URL:https://www.katefriends.org/event/passeio-de-natal-dia-23-dez-2018-great-hounds-club-katefriends/
LOCATION:Porto\, Parque Canino da Seara\, Matosinhos\, Portugal
CATEGORIES:eventos,Family Fun,Greyhound party,Meeting,Party
ATTACH;FMTTYPE=image/jpeg:https://www.katefriends.org/wp-content/uploads/2020/06/48364144_1849318501860632_4776227310753808384_n.jpg
END:VEVENT
BEGIN:VEVENT
DTSTART;TZID=UTC:20181005T100000
DTEND;TZID=UTC:20201005T180000
DTSTAMP:20260423T200942
CREATED:20181005T100045Z
LAST-MODIFIED:20211011T141621Z
UID:8877-1538733600-1601920800@www.katefriends.org
SUMMARY:KATEFRIENDS NA FEIRA ANIMAL DE OEIRAS
DESCRIPTION:Katefriends esteve novamente a representar os Greyhound/Galgos de Portugal na Feira Animal de Oeiras\, no dia 05 de Outubro de 2018\, com ajuda do Antonio Carlos Silva responsável por toda toda a publicidade que permitiu destacarmos a nossa presença na Feira Animal de Oeiras\, e com a colaboração da equipa da Katefriends  Sonia Correia \,  Inês Antunes   \nForam muitas as visitas para além das anfitriãs Eva & Gutta\, a mana Maracujá\, os manos Hórus e Óreo\, Hórus (Afeghan/Grey)\, Cookie mana do Jack\, Bobbit & Daisy\, Trovão & Hortelã\, Jinks\, Suki & Saluki \, Fly\, Pirata\, Avelã\, Farinha & Côco\, Eva (Saluki) & Jimmy\, Maria Amélia e muitos outros…\nObrigada por terem estado connosco e por tanta companhia nos terem feito\, estamos de coração cheio. ?
URL:https://www.katefriends.org/event/katefriends-na-feira-animal-de-oeiras/
CATEGORIES:eventos,Family Fun,Greyhound party,Meeting,Party
END:VEVENT
BEGIN:VEVENT
DTSTART;TZID=UTC:20180610T150000
DTEND;TZID=UTC:20180610T180000
DTSTAMP:20260423T200942
CREATED:20180610T150017Z
LAST-MODIFIED:20210507T235659Z
UID:4270-1528642800-1528653600@www.katefriends.org
SUMMARY:LANCHE COM GALGOS - KATEFRIENDS - 10 JUNHO 2018
DESCRIPTION:Aqui vos deixo o “Best Off” do nosso Lanche com Galgos realizado dia 10 de Junho 2018 na Quinta do Trevo às 15H00\, uma das quintas que faz de FAT aos  galguinhos da Katefriends e que teve a participação dos nossos queridos adotantes que conseguiram estar presentes com os seus galguinhos apesar da chuva. \nPara além dos Galgos da Katefriends a Eva apenas\, porque o Jack está de baixa\, os galgos residentes Baco \, Gabi\, Isaura\, Seta\, Mabeca\, Pipoca\, Milovna\, os não galgos Bob e a Leah e claro o pônei Orbílio \, os que estão para adoção Pulguinha\, Amora\, Tokio\, Nairobi\, Lizzy\, por fim os participantes Bolt\, Lola\, Leia\, Mel\, Branca\, Nero & Bolt\, Óreo\, Kiko\, Hórus\, Pepper\, Cookie\, Haruki\, Genji\, Thor e Bandido. \nObrigada a todos por terem vindo\, beijinhos da katefriends.com \nClique no link para ver o vídeo: https://www.youtube.com/watch?v=KE5J-T9f0Jk \n     
URL:https://www.katefriends.org/event/lanche-com-galgos-10-junho-2018-katefriends-galgos-do-trevo/
LOCATION:Quinta do Trevo\, Francos / Paiões\, Sintra\, Portugal
CATEGORIES:eventos,Family Fun,Greyhound party,Meeting,Party
ATTACH;FMTTYPE=image/jpeg:https://www.katefriends.org/wp-content/uploads/2018/06/34875757_10211575529285298_361697844744159232_n.jpg
ORGANIZER;CN="katefriends":MAILTO:katefriends@katefriends.org
END:VEVENT
BEGIN:VEVENT
DTSTART;TZID=UTC:20180603T180000
DTEND;TZID=UTC:20180603T190000
DTSTAMP:20260423T200942
CREATED:20180603T180007Z
LAST-MODIFIED:20200605T171712Z
UID:8834-1528048800-1528052400@www.katefriends.org
SUMMARY:Concerto Solidário Taças Tibetanas de Apoio à Katefriends: Buda Eyes & Teorias d'Alma
DESCRIPTION:Dia 03-Junho- 2018 das 18H00/19H00 em Algés \nO Concerto terá a utilização de Taças Tibetanas\, Gongos e Tambor Xamânico \nA katefriends.com é uma Entidade sem fins lucrativos\, que se dedica a ajudar no resgate de galgos e posterior adoção personalizada dos mesmos. \nOs galgos são animais utilizados em caça assim como em corridas\,\nacabando na sua grande maioria após os dois anos de vida posteriormente abandonados. \nSobre os nossos amigos\, sabia que :\nOs Galgos são animais muito meigos e sensíveis\, desconfiados por natureza\, alguns de difícil conquista\, devido a serem a raça mais maltratada do Mundo e à sua exaustiva utilização na caça e corridas. Em Portugal são encontrados dezenas por mês abandonados principalmente nas regiões do Alentejo e Algarve em condições muito dramáticas físicas e psicológicas. São também os únicos cães dadores universais de sangue. \nOs Galgos são a raça mais antiga do Mundo\, a única mencionada na Bíblia\, representados em figuras desde o tempo dos Gregos\, Egípcios (pirâmides)\, romanos\, tornando-se muito populares entre a nobreza inglesa pois eram a raça escolhida pela Aristocracia. \nSensíveis\, silenciosos\, independentes e bem-educados\, os Galgos são geralmente animais muito tranquilos e de bom comportamento. \nSOBRE O CONCERTO:\n– Poderá ajudar indo ao Concerto ou\, se não poder\, efetuar um donativo consciente.\n– Poderão ainda ajudar com a entrega de cobertores\, ração\, desparasitastes\, etc. \nE AINDA:\n– Trazer roupa confortável;\n– O espaço disponibiliza mantas e colchões\, mas quem quiser pode trazer os próprios. \nVALOR: 15€/participante \nRESERVAS:\n– katefriends.com : katefriends@katefriends.com\n– Teorias d’Alma: geral@teoriasdalma.com\n– BUDA EYES: 967690797 | budaeyes@gmail.com \n\n\n\n\n\n\n\n\n\nOrganizado por \n\n\n\n\n\n\n \n\n\n\n\nBuda Eyes – Taças Tibetanas / Tibetan Singing Bowls\n\n\n\n\n\n\n\n \n\n\n\n\nkatefriends.org\n\n\n\n\n\n\n\n \n\n\n\n\nTeorias d’Alma
URL:https://www.katefriends.org/event/concerto-solidario-tacas-tibetanas-de-apoio-a-katefriends-buda-eyes-teorias-dalma/
LOCATION:Algés
CATEGORIES:eventos,Meeting,Party
ATTACH;FMTTYPE=image/jpeg:https://www.katefriends.org/wp-content/uploads/2020/06/32267001_2136705046563857_4883173989289033728_o.jpg
END:VEVENT
BEGIN:VEVENT
DTSTART;TZID=UTC:20180505T100000
DTEND;TZID=UTC:20180505T180000
DTSTAMP:20260423T200942
CREATED:20180505T100057Z
LAST-MODIFIED:20211011T141905Z
UID:4287-1525514400-1525543200@www.katefriends.org
SUMMARY:KATEFRIENDS PELA PRIMEIRA VEZ NA FEIRA ANIMAL DE OEIRAS
DESCRIPTION:Pela primeira vez\, no dia 5 de Maio de 2018 das 10H00/18H00\, a Katefriends participou e representou os Greyhound/Galgos de Portugal na Feira Animal em Oeiras\,  num stand próprio com os seus galgos. \nCom muitos galguinhos e tudo para os seus galgos\, não percam e venha-nos visitar\, estamos no primeiro corredor à esquerda logo na estrada. \nUm especial obrigada ao Antonio Carlos Silva pela sua contribuição com toda a publicidade que permitiu destacarmos a nossa presença na Feira Animal de Oeiras\, obrigada a minha colega Sónia Correia\, obrigada também à Andreia Pereira e Áurea Rico por terem passado por lá para ajudar.  Obrigada Esmeralda Gazela Cabeções e Isabel Maria Silva Pinheiro pelo vosso contributo para a venda solidária pois fez o encanto dos nossos visitantes.\nObrigada também Bernardo Gonçalo querido filho que também ajudou ?\nObrigada a todos os que contribuíram comprando lembranças para ajudar e oferecendo ração\, medicamentos que muito agradecemos\, pois todos os contributos são vitais para a sobrevivência dos nossos galgos. \nObrigada por nos visitarem !
URL:https://www.katefriends.org/event/katefriends-pela-primeira-vez-na-feira-animal-de-oeiras/
LOCATION:Jardim Municipal de Oeiras
CATEGORIES:eventos,Family Fun,Greyhound party,Meeting,Party
ATTACH;FMTTYPE=image/jpeg:https://www.katefriends.org/wp-content/uploads/2020/06/31946853_1786253558132839_570638404442652672_n.jpg
END:VEVENT
BEGIN:VEVENT
DTSTART;TZID=UTC:20170613T160000
DTEND;TZID=UTC:20170613T180000
DTSTAMP:20260423T200942
CREATED:20170614T160048Z
LAST-MODIFIED:20200605T171522Z
UID:8807-1497369600-1497376800@www.katefriends.org
SUMMARY:"Lisbon Calling - All Greyhounds" Great Hounds Club & Katefriends & C.M.O. Oeiras pelos Animais
DESCRIPTION:Um maravilhoso encontro de Galgos na Quinta de Santo António – Algés (Miraflores) no dia 13 de Junho de 2017\,  ás 16H00\, espaço gentilmente cedido pela Câmara Municipal de Oeiras que superou todas as nossas expectativas!! ?? \nA  katefriends.com\, agradece ao Great Hound Club\, à Camâra Municipal de Oeiras\, e Oeiras pelos Animais pelo o seu apoio indispensável!\nAdoramos e vamos repetir ! Até breve.  Apreciem as fotos\, obrigada pela participação. \nVeja todas as fotos em : https://www.facebook.com/pg/greathoundsclub/photos/?tab=album&album_id=1243528232439665&ref=page_internal
URL:https://www.katefriends.org/event/lisbon-calling-all-greyhounds-great-hounds-club-katefriends-c-m-o-oeiras-pelos-animais/
LOCATION:oeiras\, Jardim Municipal de Oeiras\, Portugal
CATEGORIES:eventos,Greyhound party,Meeting,Party
ATTACH;FMTTYPE=image/jpeg:https://www.katefriends.org/wp-content/uploads/2020/06/18891482_1233075063484982_8983044154816887149_o.jpg
END:VEVENT
END:VCALENDAR